BEGIN:VCALENDAR
VERSION:2.0
PRODID:-//CNMEU - ECPv6.15.18//NONSGML v1.0//EN
CALSCALE:GREGORIAN
METHOD:PUBLISH
X-WR-CALNAME:CNMEU
X-ORIGINAL-URL:http://cnmeu.org
X-WR-CALDESC:Events for CNMEU
REFRESH-INTERVAL;VALUE=DURATION:PT1H
X-Robots-Tag:noindex
X-PUBLISHED-TTL:PT1H
BEGIN:VTIMEZONE
TZID:America/Denver
BEGIN:DAYLIGHT
TZOFFSETFROM:-0700
TZOFFSETTO:-0600
TZNAME:MDT
DTSTART:20250309T090000
END:DAYLIGHT
BEGIN:STANDARD
TZOFFSETFROM:-0600
TZOFFSETTO:-0700
TZNAME:MST
DTSTART:20251102T080000
END:STANDARD
BEGIN:DAYLIGHT
TZOFFSETFROM:-0700
TZOFFSETTO:-0600
TZNAME:MDT
DTSTART:20260308T090000
END:DAYLIGHT
BEGIN:STANDARD
TZOFFSETFROM:-0600
TZOFFSETTO:-0700
TZNAME:MST
DTSTART:20261101T080000
END:STANDARD
BEGIN:DAYLIGHT
TZOFFSETFROM:-0700
TZOFFSETTO:-0600
TZNAME:MDT
DTSTART:20270314T090000
END:DAYLIGHT
BEGIN:STANDARD
TZOFFSETFROM:-0600
TZOFFSETTO:-0700
TZNAME:MST
DTSTART:20271107T080000
END:STANDARD
END:VTIMEZONE
BEGIN:VEVENT
DTSTART;TZID=America/Denver:20260410T150000
DTEND;TZID=America/Denver:20260410T180000
DTSTAMP:20260421T142358
CREATED:20260407T050055Z
LAST-MODIFIED:20260407T050055Z
UID:122-1775833200-1775844000@cnmeu.org
SUMMARY:April 10th at the Membership Meeting and Officer Elections
DESCRIPTION:2026 CNMEU Officer Elections will be held on April 10th at the Membership Meeting.\nIn accordance with Article 6.3 of the CNMEU Constitution\, it is possible to vote in two manners: \n– In person by casting a secret ballot at the April 10th membership meeting\, which will be held from 3:00 pm to 5:00 pm on April 10th at the Union offices at 3200 Carlisle Boulevard NE\, Albuquerque \n– By secret ballot mailed at the CNMEU address PO Box 4366 Albuquerque\, NM 87196-4366. The ballot and the mailing instructions will be available on our website cnmeu.org as soon as the candidature petitions are verified\, tentatively by March 25th. \n\nIn order to vote in the election\, you need to be a dues-paying member of any of the Union units (FT\, PT\, IS) at the time of voting. We hope many of you will decide to vote\, as your participation gives strength and legitimacy to the Union.
URL:http://cnmeu.org/event/april-10th-at-the-membership-meeting-and-officer-elections/
LOCATION:Union Offices\, 3200 Carlisle Boulevard NE\, Albuquerque\, NM\, 87110\, United States
ORGANIZER;CN="CNMEU":MAILTO:k.bernier@comcast.net
END:VEVENT
END:VCALENDAR